BEGIN:VCALENDAR
VERSION:2.0
PRODID:-//www.thearcofsomerset.org//NONSGML kigkonsult.se iCalcreator 2.30.
 10//
CALSCALE:GREGORIAN
METHOD:PUBLISH
UID:6e51d1bd-b3b7-4ae1-9bee-99800eab949f
X-WR-CALDESC:
X-WR-RELCALID:0e8ef59ae543c21c8cd0c2d176f34813
X-WR-TIMEZONE:America/New_York
BEGIN:VTIMEZONE
TZID:America/New_York
BEGIN:STANDARD
TZNAME:EST
DTSTART:20201101T020000
TZOFFSETFROM:-0400
TZOFFSETTO:-0500
RDATE:20211107T020000
END:STANDARD
BEGIN:DAYLIGHT
TZNAME:EDT
DTSTART:20200308T020000
TZOFFSETFROM:-0500
TZOFFSETTO:-0400
RDATE:20210314T020000
RDATE:20220313T020000
END:DAYLIGHT
END:VTIMEZONE
BEGIN:VEVENT
UID:62b3082a-0c09-436d-a2bb-de327aadbd90
DTSTAMP:20260426T030550Z
DESCRIPTION:
DTSTART;TZID=America/New_York:20210226T140000
DTEND;TZID=America/New_York:20210226T143000
LOCATION:
SUMMARY:Literacy class (Claremont) –  everyone welcome!
END:VEVENT
END:VCALENDAR
