BEGIN:VCALENDAR
VERSION:2.0
PRODID:-//www.thearcofsomerset.org//NONSGML kigkonsult.se iCalcreator 2.30.
 10//
CALSCALE:GREGORIAN
METHOD:PUBLISH
UID:f1fbc262-0105-468c-8280-deedf0d9e32a
X-WR-CALDESC:
X-WR-RELCALID:240dfa7d618386eab6021da7294d59c4
X-WR-TIMEZONE:America/New_York
BEGIN:VTIMEZONE
TZID:America/New_York
BEGIN:STANDARD
TZNAME:EST
DTSTART:20201101T020000
TZOFFSETFROM:-0400
TZOFFSETTO:-0500
RDATE:20211107T020000
END:STANDARD
BEGIN:DAYLIGHT
TZNAME:EDT
DTSTART:20200308T020000
TZOFFSETFROM:-0500
TZOFFSETTO:-0400
RDATE:20210314T020000
RDATE:20220313T020000
END:DAYLIGHT
END:VTIMEZONE
BEGIN:VEVENT
UID:c543f195-5036-49f2-8a24-4bce0724bc65
DTSTAMP:20260426T012641Z
DESCRIPTION:
DTSTART;TZID=America/New_York:20210301T110000
DTEND;TZID=America/New_York:20210301T113000
LOCATION:
SUMMARY:30 Minute Mystery
END:VEVENT
END:VCALENDAR
