BEGIN:VCALENDAR
VERSION:2.0
PRODID:-//www.thearcofsomerset.org//NONSGML kigkonsult.se iCalcreator 2.30.
 10//
CALSCALE:GREGORIAN
METHOD:PUBLISH
UID:de1c5e55-a860-4991-be11-0c23ec0e7d0d
X-WR-CALDESC:
X-WR-RELCALID:c7271dc61d84f6856470420f7a32d864
X-WR-TIMEZONE:America/New_York
BEGIN:VTIMEZONE
TZID:America/New_York
BEGIN:STANDARD
TZNAME:EST
DTSTART:20201101T020000
TZOFFSETFROM:-0400
TZOFFSETTO:-0500
RDATE:20211107T020000
END:STANDARD
BEGIN:DAYLIGHT
TZNAME:EDT
DTSTART:20200308T020000
TZOFFSETFROM:-0500
TZOFFSETTO:-0400
RDATE:20210314T020000
RDATE:20220313T020000
END:DAYLIGHT
END:VTIMEZONE
BEGIN:VEVENT
UID:58b27288-4883-448e-ad60-4bfb591fc947
DTSTAMP:20260426T013153Z
DESCRIPTION:
DTSTART;TZID=America/New_York:20210302T150000
DTEND;TZID=America/New_York:20210302T153000
LOCATION:
SUMMARY:“Hot TopiX”: Conrad the Magician
END:VEVENT
END:VCALENDAR
