BEGIN:VCALENDAR
VERSION:2.0
PRODID:-//www.thearcofsomerset.org//NONSGML kigkonsult.se iCalcreator 2.30.
 10//
CALSCALE:GREGORIAN
METHOD:PUBLISH
UID:11b84733-585e-4832-80ab-14be3aa07a69
X-WR-CALDESC:
X-WR-RELCALID:2a75d55c77fbb326dc554a7053aaee6c
X-WR-TIMEZONE:America/New_York
BEGIN:VTIMEZONE
TZID:America/New_York
BEGIN:STANDARD
TZNAME:EST
DTSTART:20201101T020000
TZOFFSETFROM:-0400
TZOFFSETTO:-0500
RDATE:20211107T020000
END:STANDARD
BEGIN:DAYLIGHT
TZNAME:EDT
DTSTART:20200308T020000
TZOFFSETFROM:-0500
TZOFFSETTO:-0400
RDATE:20210314T020000
RDATE:20220313T020000
END:DAYLIGHT
END:VTIMEZONE
BEGIN:VEVENT
UID:2ca7bed8-e99a-4a47-a050-cfd1ab4c0428
DTSTAMP:20260426T013211Z
DESCRIPTION:
DTSTART;TZID=America/New_York:20210302T130000
DTEND;TZID=America/New_York:20210302T133000
LOCATION:
SUMMARY:“Music for Hope and Inspiration”  Guest Musicians: Shuel-Li and the
  theremin
END:VEVENT
END:VCALENDAR
