BEGIN:VCALENDAR
VERSION:2.0
PRODID:-//www.thearcofsomerset.org//NONSGML kigkonsult.se iCalcreator 2.30.
 10//
CALSCALE:GREGORIAN
METHOD:PUBLISH
UID:da710881-0789-4d21-a186-570ac83dec8d
X-WR-CALDESC:
X-WR-RELCALID:d8abc1241285b285c19219ac018980fe
X-WR-TIMEZONE:America/New_York
BEGIN:VTIMEZONE
TZID:America/New_York
BEGIN:STANDARD
TZNAME:EST
DTSTART:20201101T020000
TZOFFSETFROM:-0400
TZOFFSETTO:-0500
RDATE:20211107T020000
END:STANDARD
BEGIN:DAYLIGHT
TZNAME:EDT
DTSTART:20200308T020000
TZOFFSETFROM:-0500
TZOFFSETTO:-0400
RDATE:20210314T020000
RDATE:20220313T020000
END:DAYLIGHT
END:VTIMEZONE
BEGIN:VEVENT
UID:acffb015-585f-4ae2-80cf-d86b49541bcf
DTSTAMP:20260426T012820Z
DESCRIPTION:
DTSTART;TZID=America/New_York:20210302T103000
DTEND;TZID=America/New_York:20210302T110000
LOCATION:
SUMMARY:Literacy class (Griggstown) everyone welcome!
END:VEVENT
END:VCALENDAR
