BEGIN:VCALENDAR
VERSION:2.0
PRODID:-//www.thearcofsomerset.org//NONSGML kigkonsult.se iCalcreator 2.30.
 10//
CALSCALE:GREGORIAN
METHOD:PUBLISH
UID:4fdcc658-d0e2-4ee0-ac5e-db7ac2d97c8d
X-WR-CALDESC:
X-WR-RELCALID:70429b2dc7811db5f627eda319cfe7f4
X-WR-TIMEZONE:America/New_York
BEGIN:VTIMEZONE
TZID:America/New_York
BEGIN:STANDARD
TZNAME:EST
DTSTART:20201101T020000
TZOFFSETFROM:-0400
TZOFFSETTO:-0500
RDATE:20211107T020000
END:STANDARD
BEGIN:DAYLIGHT
TZNAME:EDT
DTSTART:20200308T020000
TZOFFSETFROM:-0500
TZOFFSETTO:-0400
RDATE:20210314T020000
RDATE:20220313T020000
END:DAYLIGHT
END:VTIMEZONE
BEGIN:VEVENT
UID:ec90aede-846f-43b2-8208-1de8bdef49de
DTSTAMP:20260426T012958Z
DESCRIPTION:
DTSTART;TZID=America/New_York:20210302T130000
DTEND;TZID=America/New_York:20210302T133000
LOCATION:
SUMMARY:Literacy class (Rocky Hill)  everyone welcome!
END:VEVENT
END:VCALENDAR
