BEGIN:VCALENDAR
VERSION:2.0
PRODID:-//www.thearcofsomerset.org//NONSGML kigkonsult.se iCalcreator 2.30.
 10//
CALSCALE:GREGORIAN
METHOD:PUBLISH
UID:686f4839-f9b5-46cb-b32d-4df35b6eb678
X-WR-CALDESC:
X-WR-RELCALID:de810d72d3d27516809cc9d90e7cc163
X-WR-TIMEZONE:America/New_York
BEGIN:VTIMEZONE
TZID:America/New_York
BEGIN:STANDARD
TZNAME:EST
DTSTART:20201101T020000
TZOFFSETFROM:-0400
TZOFFSETTO:-0500
RDATE:20211107T020000
END:STANDARD
BEGIN:DAYLIGHT
TZNAME:EDT
DTSTART:20200308T020000
TZOFFSETFROM:-0500
TZOFFSETTO:-0400
RDATE:20210314T020000
RDATE:20220313T020000
END:DAYLIGHT
END:VTIMEZONE
BEGIN:VEVENT
UID:c4739feb-3451-447f-85fb-9e02e4ef9ef7
DTSTAMP:20260426T012927Z
DESCRIPTION:
DTSTART;TZID=America/New_York:20210302T140000
DTEND;TZID=America/New_York:20210302T143000
LOCATION:
SUMMARY:Literacy class (UA2) -  Everyone welcome!
END:VEVENT
END:VCALENDAR
