BEGIN:VCALENDAR
VERSION:2.0
PRODID:-//www.thearcofsomerset.org//NONSGML kigkonsult.se iCalcreator 2.30.
 10//
CALSCALE:GREGORIAN
METHOD:PUBLISH
UID:8a2335cd-38af-42a3-b186-dfb31746e75a
X-WR-CALDESC:
X-WR-RELCALID:67fc0874309b0f5793f7222d91c7c8c5
X-WR-TIMEZONE:America/New_York
BEGIN:VTIMEZONE
TZID:America/New_York
BEGIN:STANDARD
TZNAME:EST
DTSTART:20201101T020000
TZOFFSETFROM:-0400
TZOFFSETTO:-0500
RDATE:20211107T020000
END:STANDARD
BEGIN:DAYLIGHT
TZNAME:EDT
DTSTART:20200308T020000
TZOFFSETFROM:-0500
TZOFFSETTO:-0400
RDATE:20210314T020000
RDATE:20220313T020000
END:DAYLIGHT
END:VTIMEZONE
BEGIN:VEVENT
UID:e13e16b6-831b-4b6c-9898-1b374c37eb37
DTSTAMP:20260426T012431Z
DESCRIPTION:
DTSTART;TZID=America/New_York:20210303T101500
DTEND;TZID=America/New_York:20210303T104500
LOCATION:
SUMMARY:Exercise with Friends
END:VEVENT
END:VCALENDAR
