BEGIN:VCALENDAR
VERSION:2.0
PRODID:-//www.thearcofsomerset.org//NONSGML kigkonsult.se iCalcreator 2.30.
 10//
CALSCALE:GREGORIAN
METHOD:PUBLISH
UID:5f53a8ec-b950-47b3-b233-303e729f3831
X-WR-CALDESC:
X-WR-RELCALID:d1f95d5d99ac40b40da06c9e4deb73de
X-WR-TIMEZONE:America/New_York
BEGIN:VTIMEZONE
TZID:America/New_York
BEGIN:STANDARD
TZNAME:EST
DTSTART:20201101T020000
TZOFFSETFROM:-0400
TZOFFSETTO:-0500
RDATE:20211107T020000
END:STANDARD
BEGIN:DAYLIGHT
TZNAME:EDT
DTSTART:20200308T020000
TZOFFSETFROM:-0500
TZOFFSETTO:-0400
RDATE:20210314T020000
RDATE:20220313T020000
END:DAYLIGHT
END:VTIMEZONE
BEGIN:VEVENT
UID:1599c907-df82-4a6d-931c-46d7b6ff688c
DTSTAMP:20260426T013113Z
DESCRIPTION:
DTSTART;TZID=America/New_York:20210304T101500
DTEND;TZID=America/New_York:20210304T104500
LOCATION:
SUMMARY:“Cool Collections” memorabilia group – Alex’s Movies!
END:VEVENT
END:VCALENDAR
