BEGIN:VCALENDAR
VERSION:2.0
PRODID:-//www.thearcofsomerset.org//NONSGML kigkonsult.se iCalcreator 2.30.
 10//
CALSCALE:GREGORIAN
METHOD:PUBLISH
UID:b61382f8-3682-4048-a6ea-65711b810914
X-WR-CALDESC:
X-WR-RELCALID:f6705e65141568f6bb4ca091bc2e8b74
X-WR-TIMEZONE:America/New_York
BEGIN:VTIMEZONE
TZID:America/New_York
BEGIN:STANDARD
TZNAME:EST
DTSTART:20201101T020000
TZOFFSETFROM:-0400
TZOFFSETTO:-0500
RDATE:20211107T020000
END:STANDARD
BEGIN:DAYLIGHT
TZNAME:EDT
DTSTART:20200308T020000
TZOFFSETFROM:-0500
TZOFFSETTO:-0400
RDATE:20210314T020000
RDATE:20220313T020000
END:DAYLIGHT
END:VTIMEZONE
BEGIN:VEVENT
UID:c56d9a8e-7266-4664-9b68-89fefeea6da8
DTSTAMP:20260426T013114Z
DESCRIPTION:
DTSTART;TZID=America/New_York:20210304T150000
DTEND;TZID=America/New_York:20210304T153000
LOCATION:
SUMMARY:“Hot TopiX” – Urban Art with Valerie
END:VEVENT
END:VCALENDAR
