BEGIN:VCALENDAR
VERSION:2.0
PRODID:-//www.thearcofsomerset.org//NONSGML kigkonsult.se iCalcreator 2.30.
 10//
CALSCALE:GREGORIAN
METHOD:PUBLISH
UID:9e873a63-5a33-45dc-a04f-b5e0c807ce2a
X-WR-CALDESC:
X-WR-RELCALID:33df11497e9ea31977775361271a024d
X-WR-TIMEZONE:America/New_York
BEGIN:VTIMEZONE
TZID:America/New_York
BEGIN:STANDARD
TZNAME:EST
DTSTART:20201101T020000
TZOFFSETFROM:-0400
TZOFFSETTO:-0500
RDATE:20211107T020000
END:STANDARD
BEGIN:DAYLIGHT
TZNAME:EDT
DTSTART:20200308T020000
TZOFFSETFROM:-0500
TZOFFSETTO:-0400
RDATE:20210314T020000
RDATE:20220313T020000
END:DAYLIGHT
END:VTIMEZONE
BEGIN:VEVENT
UID:85f1ad53-0b0b-4e9b-862b-2db4f1bcb0fa
DTSTAMP:20260426T013114Z
DESCRIPTION:
DTSTART;TZID=America/New_York:20210304T130000
DTEND;TZID=America/New_York:20210304T133000
LOCATION:
SUMMARY:“Music for Hope and Inspiration” –Justin Brown
END:VEVENT
END:VCALENDAR
