BEGIN:VCALENDAR
VERSION:2.0
PRODID:-//www.thearcofsomerset.org//NONSGML kigkonsult.se iCalcreator 2.30.
 10//
CALSCALE:GREGORIAN
METHOD:PUBLISH
UID:a07d702d-5086-4a5e-9393-f40deb86c8d8
X-WR-CALDESC:
X-WR-RELCALID:68addb99095d11a9de4c687970ebbe28
X-WR-TIMEZONE:America/New_York
BEGIN:VTIMEZONE
TZID:America/New_York
BEGIN:STANDARD
TZNAME:EST
DTSTART:20201101T020000
TZOFFSETFROM:-0400
TZOFFSETTO:-0500
RDATE:20211107T020000
END:STANDARD
BEGIN:DAYLIGHT
TZNAME:EDT
DTSTART:20200308T020000
TZOFFSETFROM:-0500
TZOFFSETTO:-0400
RDATE:20210314T020000
RDATE:20220313T020000
END:DAYLIGHT
END:VTIMEZONE
BEGIN:VEVENT
UID:b90091ba-e135-4606-92ae-7acb0095f69e
DTSTAMP:20260426T012822Z
DESCRIPTION:
DTSTART;TZID=America/New_York:20210304T111500
DTEND;TZID=America/New_York:20210304T234500
LOCATION:
SUMMARY:Literacy class (Cambridge)- everyone welcome!
END:VEVENT
END:VCALENDAR
