BEGIN:VCALENDAR
VERSION:2.0
PRODID:-//www.thearcofsomerset.org//NONSGML kigkonsult.se iCalcreator 2.30.
 10//
CALSCALE:GREGORIAN
METHOD:PUBLISH
UID:0e10ce74-1b28-4e9a-a9bf-5ce747cf0809
X-WR-CALDESC:
X-WR-RELCALID:1b46c751a5c0117244eaeb4d309d12aa
X-WR-TIMEZONE:America/New_York
BEGIN:VTIMEZONE
TZID:America/New_York
BEGIN:STANDARD
TZNAME:EST
DTSTART:20201101T020000
TZOFFSETFROM:-0400
TZOFFSETTO:-0500
RDATE:20211107T020000
END:STANDARD
BEGIN:DAYLIGHT
TZNAME:EDT
DTSTART:20200308T020000
TZOFFSETFROM:-0500
TZOFFSETTO:-0400
RDATE:20210314T020000
RDATE:20220313T020000
END:DAYLIGHT
END:VTIMEZONE
BEGIN:VEVENT
UID:de6fe608-7c6f-453b-aa58-240ce5608989
DTSTAMP:20260426T012809Z
DESCRIPTION:
DTSTART;TZID=America/New_York:20210305T130000
DTEND;TZID=America/New_York:20210305T133000
LOCATION:
SUMMARY:Literacy class (Commons 1) - everyone welcome!
END:VEVENT
END:VCALENDAR
