BEGIN:VCALENDAR
VERSION:2.0
PRODID:-//www.thearcofsomerset.org//NONSGML kigkonsult.se iCalcreator 2.30.
 10//
CALSCALE:GREGORIAN
METHOD:PUBLISH
UID:37ead5e1-52ba-498e-8be1-d82ece45ab4b
X-WR-CALDESC:
X-WR-RELCALID:cbc2baf11b290588b770bccc2ed88b4a
X-WR-TIMEZONE:America/New_York
BEGIN:VTIMEZONE
TZID:America/New_York
BEGIN:STANDARD
TZNAME:EST
DTSTART:20201101T020000
TZOFFSETFROM:-0400
TZOFFSETTO:-0500
RDATE:20211107T020000
END:STANDARD
BEGIN:DAYLIGHT
TZNAME:EDT
DTSTART:20210314T020000
TZOFFSETFROM:-0500
TZOFFSETTO:-0400
RDATE:20220313T020000
END:DAYLIGHT
END:VTIMEZONE
BEGIN:VEVENT
UID:22a2a4e2-616e-4833-8b28-cc38f2b4386b
DTSTAMP:20260426T013009Z
DESCRIPTION:
DTSTART;TZID=America/New_York:20210309T130000
DTEND;TZID=America/New_York:20210309T133000
LOCATION:
SUMMARY:Literacy class (RHGH) everyone welcome!
END:VEVENT
END:VCALENDAR
