BEGIN:VCALENDAR
VERSION:2.0
PRODID:-//www.thearcofsomerset.org//NONSGML kigkonsult.se iCalcreator 2.30.
 10//
CALSCALE:GREGORIAN
METHOD:PUBLISH
UID:9e888016-855c-4843-87c6-552840454bef
X-WR-CALDESC:
X-WR-RELCALID:185a59748ddda5694b47ff945c3e81a3
X-WR-TIMEZONE:America/New_York
BEGIN:VTIMEZONE
TZID:America/New_York
BEGIN:STANDARD
TZNAME:EST
DTSTART:20201101T020000
TZOFFSETFROM:-0400
TZOFFSETTO:-0500
RDATE:20211107T020000
END:STANDARD
BEGIN:DAYLIGHT
TZNAME:EDT
DTSTART:20210314T020000
TZOFFSETFROM:-0500
TZOFFSETTO:-0400
RDATE:20220313T020000
END:DAYLIGHT
END:VTIMEZONE
BEGIN:VEVENT
UID:10b7a3ac-5dc9-47f0-b844-3138eb7a7c3b
DTSTAMP:20260426T012929Z
DESCRIPTION:
DTSTART;TZID=America/New_York:20210309T140000
DTEND;TZID=America/New_York:20210309T143000
LOCATION:
SUMMARY:Literacy class (UA2) –  everyone welcome!
END:VEVENT
END:VCALENDAR
