BEGIN:VCALENDAR
VERSION:2.0
PRODID:-//www.thearcofsomerset.org//NONSGML kigkonsult.se iCalcreator 2.30.
 10//
CALSCALE:GREGORIAN
METHOD:PUBLISH
UID:cd570a01-fe91-401f-9f46-901985276543
X-WR-CALDESC:
X-WR-RELCALID:7ff042338d2fa6e509cc486fb9ebd44b
X-WR-TIMEZONE:America/New_York
BEGIN:VTIMEZONE
TZID:America/New_York
BEGIN:STANDARD
TZNAME:EST
DTSTART:20201101T020000
TZOFFSETFROM:-0400
TZOFFSETTO:-0500
RDATE:20211107T020000
END:STANDARD
BEGIN:DAYLIGHT
TZNAME:EDT
DTSTART:20210314T020000
TZOFFSETFROM:-0500
TZOFFSETTO:-0400
RDATE:20220313T020000
END:DAYLIGHT
END:VTIMEZONE
BEGIN:VEVENT
UID:be43b487-cac2-468f-8d5d-4ea987f0e23a
DTSTAMP:20260426T013159Z
DESCRIPTION:
DTSTART;TZID=America/New_York:20210311T150000
DTEND;TZID=America/New_York:20210311T153000
LOCATION:
SUMMARY:“Hot TopiX” –  Karma Cats – LIVE cats at adoption agency!
END:VEVENT
END:VCALENDAR
