BEGIN:VCALENDAR
VERSION:2.0
PRODID:-//www.thearcofsomerset.org//NONSGML kigkonsult.se iCalcreator 2.30.
 10//
CALSCALE:GREGORIAN
METHOD:PUBLISH
UID:2a7d4fc2-fd47-4d8b-b7d2-5aaa052cdbff
X-WR-CALDESC:
X-WR-RELCALID:4509f95ce419be5783c8f31d2a003820
X-WR-TIMEZONE:America/New_York
BEGIN:VTIMEZONE
TZID:America/New_York
BEGIN:STANDARD
TZNAME:EST
DTSTART:20201101T020000
TZOFFSETFROM:-0400
TZOFFSETTO:-0500
RDATE:20211107T020000
END:STANDARD
BEGIN:DAYLIGHT
TZNAME:EDT
DTSTART:20210314T020000
TZOFFSETFROM:-0500
TZOFFSETTO:-0400
RDATE:20220313T020000
END:DAYLIGHT
END:VTIMEZONE
BEGIN:VEVENT
UID:ab13ce7f-7ea8-434c-95a3-8e393ce22f40
DTSTAMP:20260426T013200Z
DESCRIPTION:
DTSTART;TZID=America/New_York:20210311T130000
DTEND;TZID=America/New_York:20210311T133000
LOCATION:
SUMMARY:“Music for Hope and Inspiration” -  Colleen and Dee’s playlist!
END:VEVENT
END:VCALENDAR
