BEGIN:VCALENDAR
VERSION:2.0
PRODID:-//www.thearcofsomerset.org//NONSGML kigkonsult.se iCalcreator 2.30.
 10//
CALSCALE:GREGORIAN
METHOD:PUBLISH
UID:7319d915-7b15-4221-8c5b-b7eb5c8b3ae3
X-WR-CALDESC:
X-WR-RELCALID:21a009927a5284278d7c3ca9f0f7de63
X-WR-TIMEZONE:America/New_York
BEGIN:VTIMEZONE
TZID:America/New_York
BEGIN:STANDARD
TZNAME:EST
DTSTART:20201101T020000
TZOFFSETFROM:-0400
TZOFFSETTO:-0500
RDATE:20211107T020000
END:STANDARD
BEGIN:DAYLIGHT
TZNAME:EDT
DTSTART:20210314T020000
TZOFFSETFROM:-0500
TZOFFSETTO:-0400
RDATE:20220313T020000
END:DAYLIGHT
END:VTIMEZONE
BEGIN:VEVENT
UID:cc60526f-28c8-4548-b9f1-cf5bd0453d38
DTSTAMP:20260426T012958Z
DESCRIPTION:
DTSTART;TZID=America/New_York:20210311T111500
DTEND;TZID=America/New_York:20210311T114500
LOCATION:
SUMMARY:Literacy class (Cambridge)- everyone welcome!
END:VEVENT
END:VCALENDAR
