BEGIN:VCALENDAR
VERSION:2.0
PRODID:-//www.thearcofsomerset.org//NONSGML kigkonsult.se iCalcreator 2.30.
 10//
CALSCALE:GREGORIAN
METHOD:PUBLISH
UID:678cc47d-d332-42c0-bf0c-add521909ace
X-WR-CALDESC:
X-WR-RELCALID:4cb05986a1cdbe7079c126593ce6ceff
X-WR-TIMEZONE:America/New_York
BEGIN:VTIMEZONE
TZID:America/New_York
BEGIN:STANDARD
TZNAME:EST
DTSTART:20201101T020000
TZOFFSETFROM:-0400
TZOFFSETTO:-0500
RDATE:20211107T020000
END:STANDARD
BEGIN:DAYLIGHT
TZNAME:EDT
DTSTART:20210314T020000
TZOFFSETFROM:-0500
TZOFFSETTO:-0400
RDATE:20220313T020000
END:DAYLIGHT
END:VTIMEZONE
BEGIN:VEVENT
UID:6a14bbfa-a180-47ce-8ca0-3b175d459cdf
DTSTAMP:20260426T012526Z
DESCRIPTION:
DTSTART;TZID=America/New_York:20210312T110000
DTEND;TZID=America/New_York:20210312T113000
LOCATION:
SUMMARY:Exercise with Friends
END:VEVENT
END:VCALENDAR
