BEGIN:VCALENDAR
VERSION:2.0
PRODID:-//www.thearcofsomerset.org//NONSGML kigkonsult.se iCalcreator 2.30.
 10//
CALSCALE:GREGORIAN
METHOD:PUBLISH
UID:95eb8e5b-bae8-46a7-bb40-2e67db31ea18
X-WR-CALDESC:
X-WR-RELCALID:633e3b37567f37e97724f5ff1919f9c4
X-WR-TIMEZONE:America/New_York
BEGIN:VTIMEZONE
TZID:America/New_York
BEGIN:STANDARD
TZNAME:EST
DTSTART:20201101T020000
TZOFFSETFROM:-0400
TZOFFSETTO:-0500
RDATE:20211107T020000
END:STANDARD
BEGIN:DAYLIGHT
TZNAME:EDT
DTSTART:20210314T020000
TZOFFSETFROM:-0500
TZOFFSETTO:-0400
RDATE:20220313T020000
END:DAYLIGHT
END:VTIMEZONE
BEGIN:VEVENT
UID:7b4d96be-c867-4f3b-ad7c-6dc8f8032cfb
DTSTAMP:20260426T013031Z
DESCRIPTION:
DTSTART;TZID=America/New_York:20210312T140000
DTEND;TZID=America/New_York:20210312T143000
LOCATION:
SUMMARY:Literacy class (Claremont) –everyone welcome!
END:VEVENT
END:VCALENDAR
