BEGIN:VCALENDAR
VERSION:2.0
PRODID:-//www.thearcofsomerset.org//NONSGML kigkonsult.se iCalcreator 2.30.
 10//
CALSCALE:GREGORIAN
METHOD:PUBLISH
UID:ebcaf461-6fa0-4f05-aad2-8928c74ad877
X-WR-CALDESC:
X-WR-RELCALID:1316685c2d896dd849fabdfa818dd98a
X-WR-TIMEZONE:America/New_York
BEGIN:VTIMEZONE
TZID:America/New_York
BEGIN:STANDARD
TZNAME:EST
DTSTART:20201101T020000
TZOFFSETFROM:-0400
TZOFFSETTO:-0500
RDATE:20211107T020000
END:STANDARD
BEGIN:DAYLIGHT
TZNAME:EDT
DTSTART:20210314T020000
TZOFFSETFROM:-0500
TZOFFSETTO:-0400
RDATE:20220313T020000
END:DAYLIGHT
END:VTIMEZONE
BEGIN:VEVENT
UID:0ef2676b-4c42-4e67-b984-1ff8bbdbcc9f
DTSTAMP:20260426T012735Z
DESCRIPTION:
DTSTART;TZID=America/New_York:20210312T130000
DTEND;TZID=America/New_York:20210312T133000
LOCATION:
SUMMARY:Literacy class (Commons 1) - everyone welcome!
END:VEVENT
END:VCALENDAR
