BEGIN:VCALENDAR
VERSION:2.0
PRODID:-//www.thearcofsomerset.org//NONSGML kigkonsult.se iCalcreator 2.30.
 10//
CALSCALE:GREGORIAN
METHOD:PUBLISH
UID:686a12e4-38d9-4a1e-a2ac-2e0f3454b0f8
X-WR-CALDESC:
X-WR-RELCALID:660f4e7d8746e1b17024ef02a71eb465
X-WR-TIMEZONE:America/New_York
BEGIN:VTIMEZONE
TZID:America/New_York
BEGIN:STANDARD
TZNAME:EST
DTSTART:20201101T020000
TZOFFSETFROM:-0400
TZOFFSETTO:-0500
RDATE:20211107T020000
END:STANDARD
BEGIN:DAYLIGHT
TZNAME:EDT
DTSTART:20210314T020000
TZOFFSETFROM:-0500
TZOFFSETTO:-0400
RDATE:20220313T020000
END:DAYLIGHT
END:VTIMEZONE
BEGIN:VEVENT
UID:3906bdbf-139b-485a-a4c2-5aaff0184db5
DTSTAMP:20260426T012735Z
DESCRIPTION:
DTSTART;TZID=America/New_York:20210315T110000
DTEND;TZID=America/New_York:20210315T113000
LOCATION:
SUMMARY:30 Minute Mystery
END:VEVENT
END:VCALENDAR
