BEGIN:VCALENDAR
VERSION:2.0
PRODID:-//www.thearcofsomerset.org//NONSGML kigkonsult.se iCalcreator 2.30.
 10//
CALSCALE:GREGORIAN
METHOD:PUBLISH
UID:1a18bd21-51f5-4657-a770-459803d2bd62
X-WR-CALDESC:
X-WR-RELCALID:918cf9bb89b7a9845c27c78268005903
X-WR-TIMEZONE:America/New_York
BEGIN:VTIMEZONE
TZID:America/New_York
BEGIN:STANDARD
TZNAME:EST
DTSTART:20201101T020000
TZOFFSETFROM:-0400
TZOFFSETTO:-0500
RDATE:20211107T020000
END:STANDARD
BEGIN:DAYLIGHT
TZNAME:EDT
DTSTART:20210314T020000
TZOFFSETFROM:-0500
TZOFFSETTO:-0400
RDATE:20220313T020000
END:DAYLIGHT
END:VTIMEZONE
BEGIN:VEVENT
UID:45b6a088-2f22-4359-ad91-1ed005097898
DTSTAMP:20260426T012959Z
DESCRIPTION:
DTSTART;TZID=America/New_York:20210315T140000
DTEND;TZID=America/New_York:20210315T143000
LOCATION:
SUMMARY:Art with Alec and Tonya
END:VEVENT
END:VCALENDAR
