BEGIN:VCALENDAR
VERSION:2.0
PRODID:-//www.thearcofsomerset.org//NONSGML kigkonsult.se iCalcreator 2.30.
 10//
CALSCALE:GREGORIAN
METHOD:PUBLISH
UID:2c927590-cefa-4b0e-b313-6408d3488738
X-WR-CALDESC:
X-WR-RELCALID:be93e0ae590ae45e7b8d07c28cc6b395
X-WR-TIMEZONE:America/New_York
BEGIN:VTIMEZONE
TZID:America/New_York
BEGIN:STANDARD
TZNAME:EST
DTSTART:20201101T020000
TZOFFSETFROM:-0400
TZOFFSETTO:-0500
RDATE:20211107T020000
END:STANDARD
BEGIN:DAYLIGHT
TZNAME:EDT
DTSTART:20210314T020000
TZOFFSETFROM:-0500
TZOFFSETTO:-0400
RDATE:20220313T020000
END:DAYLIGHT
END:VTIMEZONE
BEGIN:VEVENT
UID:6ac68450-c550-45b0-b35b-e7de8e80b8f4
DTSTAMP:20260426T013030Z
DESCRIPTION:
DTSTART;TZID=America/New_York:20210316T150000
DTEND;TZID=America/New_York:20210316T153000
LOCATION:
SUMMARY:“Hot TopiX” –  Leprechaun Scavenger Hunt
END:VEVENT
END:VCALENDAR
