BEGIN:VCALENDAR
VERSION:2.0
PRODID:-//www.thearcofsomerset.org//NONSGML kigkonsult.se iCalcreator 2.30.
 10//
CALSCALE:GREGORIAN
METHOD:PUBLISH
UID:efa4188d-2b0f-4c58-9756-55f549a4cada
X-WR-CALDESC:
X-WR-RELCALID:297af483474c859cf7b9a4d922f8b47b
X-WR-TIMEZONE:America/New_York
BEGIN:VTIMEZONE
TZID:America/New_York
BEGIN:STANDARD
TZNAME:EST
DTSTART:20201101T020000
TZOFFSETFROM:-0400
TZOFFSETTO:-0500
RDATE:20211107T020000
END:STANDARD
BEGIN:DAYLIGHT
TZNAME:EDT
DTSTART:20210314T020000
TZOFFSETFROM:-0500
TZOFFSETTO:-0400
RDATE:20220313T020000
END:DAYLIGHT
END:VTIMEZONE
BEGIN:VEVENT
UID:1e888da9-a8b0-4386-b4bc-31762d3e7890
DTSTAMP:20260426T012959Z
DESCRIPTION:
DTSTART;TZID=America/New_York:20210316T140000
DTEND;TZID=America/New_York:20210316T143000
LOCATION:
SUMMARY:Literacy class (UA2) –  Everyone welcome!
END:VEVENT
END:VCALENDAR
