BEGIN:VCALENDAR
VERSION:2.0
PRODID:-//www.thearcofsomerset.org//NONSGML kigkonsult.se iCalcreator 2.30.
 10//
CALSCALE:GREGORIAN
METHOD:PUBLISH
UID:01bebda9-e4ed-41ea-906e-288c28689e98
X-WR-CALDESC:
X-WR-RELCALID:5aa82f5b18e2b4b02d5755486291621a
X-WR-TIMEZONE:America/New_York
BEGIN:VTIMEZONE
TZID:America/New_York
BEGIN:STANDARD
TZNAME:EST
DTSTART:20201101T020000
TZOFFSETFROM:-0400
TZOFFSETTO:-0500
RDATE:20211107T020000
END:STANDARD
BEGIN:DAYLIGHT
TZNAME:EDT
DTSTART:20210314T020000
TZOFFSETFROM:-0500
TZOFFSETTO:-0400
RDATE:20220313T020000
END:DAYLIGHT
END:VTIMEZONE
BEGIN:VEVENT
UID:8733eebe-11ee-48ce-acb0-8b95c59ca19e
DTSTAMP:20260426T012842Z
DESCRIPTION:
DTSTART;TZID=America/New_York:20210317T111500
DTEND;TZID=America/New_York:20210317T114500
LOCATION:
SUMMARY:SGH Literacy class – all welcome!
END:VEVENT
END:VCALENDAR
