BEGIN:VCALENDAR
VERSION:2.0
PRODID:-//www.thearcofsomerset.org//NONSGML kigkonsult.se iCalcreator 2.30.
 10//
CALSCALE:GREGORIAN
METHOD:PUBLISH
UID:3758f8d2-a48e-4467-ad82-f14f59818adc
X-WR-CALDESC:
X-WR-RELCALID:155166cd20a50af51efb69b577db9469
X-WR-TIMEZONE:America/New_York
BEGIN:VTIMEZONE
TZID:America/New_York
BEGIN:STANDARD
TZNAME:EST
DTSTART:20201101T020000
TZOFFSETFROM:-0400
TZOFFSETTO:-0500
RDATE:20211107T020000
END:STANDARD
BEGIN:DAYLIGHT
TZNAME:EDT
DTSTART:20210314T020000
TZOFFSETFROM:-0500
TZOFFSETTO:-0400
RDATE:20220313T020000
END:DAYLIGHT
END:VTIMEZONE
BEGIN:VEVENT
UID:9cb7c204-ea98-4b3d-894c-e5dbe1b56359
DTSTAMP:20260426T012810Z
DESCRIPTION:
DTSTART;TZID=America/New_York:20210318T100000
DTEND;TZID=America/New_York:20210318T103000
LOCATION:
SUMMARY:Literacy class (Ardsley) –  everyone welcome!
END:VEVENT
END:VCALENDAR
