BEGIN:VCALENDAR
VERSION:2.0
PRODID:-//www.thearcofsomerset.org//NONSGML kigkonsult.se iCalcreator 2.30.
 10//
CALSCALE:GREGORIAN
METHOD:PUBLISH
UID:0cba658b-bd1c-4cb1-af26-26a99785071e
X-WR-CALDESC:
X-WR-RELCALID:1f2d6abf0d2619b15c877061418554ae
X-WR-TIMEZONE:America/New_York
BEGIN:VTIMEZONE
TZID:America/New_York
BEGIN:STANDARD
TZNAME:EST
DTSTART:20201101T020000
TZOFFSETFROM:-0400
TZOFFSETTO:-0500
RDATE:20211107T020000
END:STANDARD
BEGIN:DAYLIGHT
TZNAME:EDT
DTSTART:20210314T020000
TZOFFSETFROM:-0500
TZOFFSETTO:-0400
RDATE:20220313T020000
END:DAYLIGHT
END:VTIMEZONE
BEGIN:VEVENT
UID:73d675b8-eb32-4f7c-82bf-32574d45bdb6
DTSTAMP:20260426T013031Z
DESCRIPTION:
DTSTART;TZID=America/New_York:20210319T150000
DTEND;TZID=America/New_York:20210319T160000
LOCATION:
SUMMARY:Advocacy General Meeting
END:VEVENT
END:VCALENDAR
