BEGIN:VCALENDAR
VERSION:2.0
PRODID:-//www.thearcofsomerset.org//NONSGML kigkonsult.se iCalcreator 2.30.
 10//
CALSCALE:GREGORIAN
METHOD:PUBLISH
UID:a1a4df6e-ba1a-43f8-bfbe-80dd8f952b8c
X-WR-CALDESC:
X-WR-RELCALID:b9b03ce666fe100729d1778f1ffabff7
X-WR-TIMEZONE:America/New_York
BEGIN:VTIMEZONE
TZID:America/New_York
BEGIN:STANDARD
TZNAME:EST
DTSTART:20201101T020000
TZOFFSETFROM:-0400
TZOFFSETTO:-0500
RDATE:20211107T020000
END:STANDARD
BEGIN:DAYLIGHT
TZNAME:EDT
DTSTART:20210314T020000
TZOFFSETFROM:-0500
TZOFFSETTO:-0400
RDATE:20220313T020000
END:DAYLIGHT
END:VTIMEZONE
BEGIN:VEVENT
UID:d8db57f9-f0f0-49ea-89ba-e7850067c8ca
DTSTAMP:20260426T012525Z
DESCRIPTION:
DTSTART;TZID=America/New_York:20210319T110000
DTEND;TZID=America/New_York:20210319T113000
LOCATION:
SUMMARY:Exercise with Friends
END:VEVENT
END:VCALENDAR
