BEGIN:VCALENDAR
VERSION:2.0
PRODID:-//www.thearcofsomerset.org//NONSGML kigkonsult.se iCalcreator 2.30.
 10//
CALSCALE:GREGORIAN
METHOD:PUBLISH
UID:20cc03ed-d2da-483e-bd07-bc5f1f2a4e99
X-WR-CALDESC:
X-WR-RELCALID:426706b3f51c6def370f5371add89481
X-WR-TIMEZONE:America/New_York
BEGIN:VTIMEZONE
TZID:America/New_York
BEGIN:STANDARD
TZNAME:EST
DTSTART:20201101T020000
TZOFFSETFROM:-0400
TZOFFSETTO:-0500
RDATE:20211107T020000
END:STANDARD
BEGIN:DAYLIGHT
TZNAME:EDT
DTSTART:20210314T020000
TZOFFSETFROM:-0500
TZOFFSETTO:-0400
RDATE:20220313T020000
END:DAYLIGHT
END:VTIMEZONE
BEGIN:VEVENT
UID:ec815ffd-cc8c-4b14-bd25-93246f69f5fa
DTSTAMP:20260426T013114Z
DESCRIPTION:
DTSTART;TZID=America/New_York:20210323T150000
DTEND;TZID=America/New_York:20210323T153000
LOCATION:
SUMMARY:“Hot TopiX” – Boots and Cats with Patti and Selina
END:VEVENT
END:VCALENDAR
