BEGIN:VCALENDAR
VERSION:2.0
PRODID:-//www.thearcofsomerset.org//NONSGML kigkonsult.se iCalcreator 2.30.
 10//
CALSCALE:GREGORIAN
METHOD:PUBLISH
UID:3f1cdc50-7253-4225-9b00-0ba752208eb5
X-WR-CALDESC:
X-WR-RELCALID:c119d6f7009cc2286b29149a73439ca7
X-WR-TIMEZONE:America/New_York
BEGIN:VTIMEZONE
TZID:America/New_York
BEGIN:STANDARD
TZNAME:EST
DTSTART:20201101T020000
TZOFFSETFROM:-0400
TZOFFSETTO:-0500
RDATE:20211107T020000
END:STANDARD
BEGIN:DAYLIGHT
TZNAME:EDT
DTSTART:20210314T020000
TZOFFSETFROM:-0500
TZOFFSETTO:-0400
RDATE:20220313T020000
END:DAYLIGHT
END:VTIMEZONE
BEGIN:VEVENT
UID:f81e6d2d-8430-4700-b1e5-448f101d2ede
DTSTAMP:20260426T012928Z
DESCRIPTION:
DTSTART;TZID=America/New_York:20210323T103000
DTEND;TZID=America/New_York:20210323T110000
LOCATION:
SUMMARY:Literacy class (Griggstown) everyone welcome!
END:VEVENT
END:VCALENDAR
