BEGIN:VCALENDAR
VERSION:2.0
PRODID:-//www.thearcofsomerset.org//NONSGML kigkonsult.se iCalcreator 2.30.
 10//
CALSCALE:GREGORIAN
METHOD:PUBLISH
UID:88946573-24e4-43bd-a2a4-06808de86bb5
X-WR-CALDESC:
X-WR-RELCALID:6f31f3ffc2619b54c5c299e70f0f02af
X-WR-TIMEZONE:America/New_York
BEGIN:VTIMEZONE
TZID:America/New_York
BEGIN:STANDARD
TZNAME:EST
DTSTART:20201101T020000
TZOFFSETFROM:-0400
TZOFFSETTO:-0500
RDATE:20211107T020000
END:STANDARD
BEGIN:DAYLIGHT
TZNAME:EDT
DTSTART:20210314T020000
TZOFFSETFROM:-0500
TZOFFSETTO:-0400
RDATE:20220313T020000
END:DAYLIGHT
END:VTIMEZONE
BEGIN:VEVENT
UID:bfc77630-98f1-422d-b35b-70b9806af519
DTSTAMP:20260426T013009Z
DESCRIPTION:
DTSTART;TZID=America/New_York:20210323T130000
DTEND;TZID=America/New_York:20210323T133000
LOCATION:
SUMMARY:Literacy class (RHGH)  everyone welcome!
END:VEVENT
END:VCALENDAR
