BEGIN:VCALENDAR
VERSION:2.0
PRODID:-//www.thearcofsomerset.org//NONSGML kigkonsult.se iCalcreator 2.30.
 10//
CALSCALE:GREGORIAN
METHOD:PUBLISH
UID:32070f6c-6083-4afa-b432-7cf86bf67987
X-WR-CALDESC:
X-WR-RELCALID:dba1acac18ad109b88eb0c50b318d61a
X-WR-TIMEZONE:America/New_York
BEGIN:VTIMEZONE
TZID:America/New_York
BEGIN:STANDARD
TZNAME:EST
DTSTART:20201101T020000
TZOFFSETFROM:-0400
TZOFFSETTO:-0500
RDATE:20211107T020000
END:STANDARD
BEGIN:DAYLIGHT
TZNAME:EDT
DTSTART:20210314T020000
TZOFFSETFROM:-0500
TZOFFSETTO:-0400
RDATE:20220313T020000
END:DAYLIGHT
END:VTIMEZONE
BEGIN:VEVENT
UID:4facec1b-72e0-4933-a033-02755bd0ff13
DTSTAMP:20260426T013106Z
DESCRIPTION:
DTSTART;TZID=America/New_York:20210324T093000
DTEND;TZID=America/New_York:20210324T103000
LOCATION:
SUMMARY:“Let’s Talk Sports with Josh and Jason”
END:VEVENT
END:VCALENDAR
