BEGIN:VCALENDAR
VERSION:2.0
PRODID:-//www.thearcofsomerset.org//NONSGML kigkonsult.se iCalcreator 2.30.
 10//
CALSCALE:GREGORIAN
METHOD:PUBLISH
UID:fdfc29e6-ad60-46d7-b3ed-1ea9187be4b0
X-WR-CALDESC:
X-WR-RELCALID:04c210515bb4358079843e5ea1b489aa
X-WR-TIMEZONE:America/New_York
BEGIN:VTIMEZONE
TZID:America/New_York
BEGIN:STANDARD
TZNAME:EST
DTSTART:20201101T020000
TZOFFSETFROM:-0400
TZOFFSETTO:-0500
RDATE:20211107T020000
END:STANDARD
BEGIN:DAYLIGHT
TZNAME:EDT
DTSTART:20210314T020000
TZOFFSETFROM:-0500
TZOFFSETTO:-0400
RDATE:20220313T020000
END:DAYLIGHT
END:VTIMEZONE
BEGIN:VEVENT
UID:7308bfe6-d001-4729-8ea7-25951f42ffc9
DTSTAMP:20260426T012655Z
DESCRIPTION:
DTSTART;TZID=America/New_York:20210324T130000
DTEND;TZID=America/New_York:20210324T133000
LOCATION:
SUMMARY:30 Minute Mystery
END:VEVENT
END:VCALENDAR
