BEGIN:VCALENDAR
VERSION:2.0
PRODID:-//www.thearcofsomerset.org//NONSGML kigkonsult.se iCalcreator 2.30.
 10//
CALSCALE:GREGORIAN
METHOD:PUBLISH
UID:55e22ac3-2cf7-4a1b-8c86-5124e7f2e831
X-WR-CALDESC:
X-WR-RELCALID:a1792d48ff857e39aee486a27695f671
X-WR-TIMEZONE:America/New_York
BEGIN:VTIMEZONE
TZID:America/New_York
BEGIN:STANDARD
TZNAME:EST
DTSTART:20201101T020000
TZOFFSETFROM:-0400
TZOFFSETTO:-0500
RDATE:20211107T020000
END:STANDARD
BEGIN:DAYLIGHT
TZNAME:EDT
DTSTART:20210314T020000
TZOFFSETFROM:-0500
TZOFFSETTO:-0400
RDATE:20220313T020000
END:DAYLIGHT
END:VTIMEZONE
BEGIN:VEVENT
UID:567e44c3-d446-4cd3-9b99-efbe9d380d33
DTSTAMP:20260426T012958Z
DESCRIPTION:
DTSTART;TZID=America/New_York:20210325T101500
DTEND;TZID=America/New_York:20210325T104500
LOCATION:
SUMMARY:“Cool Collections” memorabilia group – Lori’s Collection!
END:VEVENT
END:VCALENDAR
