BEGIN:VCALENDAR
VERSION:2.0
PRODID:-//www.thearcofsomerset.org//NONSGML kigkonsult.se iCalcreator 2.30.
 10//
CALSCALE:GREGORIAN
METHOD:PUBLISH
UID:768a5754-c8ad-4bce-84f0-fead6e8081c7
X-WR-CALDESC:
X-WR-RELCALID:ab9cface97c0c83d6034e3d291a1eaf3
X-WR-TIMEZONE:America/New_York
BEGIN:VTIMEZONE
TZID:America/New_York
BEGIN:STANDARD
TZNAME:EST
DTSTART:20201101T020000
TZOFFSETFROM:-0400
TZOFFSETTO:-0500
RDATE:20211107T020000
END:STANDARD
BEGIN:DAYLIGHT
TZNAME:EDT
DTSTART:20210314T020000
TZOFFSETFROM:-0500
TZOFFSETTO:-0400
RDATE:20220313T020000
END:DAYLIGHT
END:VTIMEZONE
BEGIN:VEVENT
UID:dcf559c0-80f2-4293-a55c-30d420b1f35f
DTSTAMP:20260426T013152Z
DESCRIPTION:
DTSTART;TZID=America/New_York:20210325T150000
DTEND;TZID=America/New_York:20210325T153000
LOCATION:
SUMMARY:“Hot TopiX” – Virtual Trip to an Aquarium
END:VEVENT
END:VCALENDAR
