BEGIN:VCALENDAR
VERSION:2.0
PRODID:-//www.thearcofsomerset.org//NONSGML kigkonsult.se iCalcreator 2.30.
 10//
CALSCALE:GREGORIAN
METHOD:PUBLISH
UID:1838a4f4-0d94-4926-b1c5-349b833b9412
X-WR-CALDESC:
X-WR-RELCALID:1da3aef64135ffc763824438101730f4
X-WR-TIMEZONE:America/New_York
BEGIN:VTIMEZONE
TZID:America/New_York
BEGIN:STANDARD
TZNAME:EST
DTSTART:20201101T020000
TZOFFSETFROM:-0400
TZOFFSETTO:-0500
RDATE:20211107T020000
END:STANDARD
BEGIN:DAYLIGHT
TZNAME:EDT
DTSTART:20210314T020000
TZOFFSETFROM:-0500
TZOFFSETTO:-0400
RDATE:20220313T020000
END:DAYLIGHT
END:VTIMEZONE
BEGIN:VEVENT
UID:9614ebd7-c6b6-477e-bc9a-50bf31ce00fc
DTSTAMP:20260426T012927Z
DESCRIPTION:
DTSTART;TZID=America/New_York:20210325T111500
DTEND;TZID=America/New_York:20210325T234500
LOCATION:
SUMMARY:Literacy class (Cambridge)- everyone welcome!
END:VEVENT
END:VCALENDAR
