BEGIN:VCALENDAR
VERSION:2.0
PRODID:-//www.thearcofsomerset.org//NONSGML kigkonsult.se iCalcreator 2.30.
 10//
CALSCALE:GREGORIAN
METHOD:PUBLISH
UID:7ffef6fa-22b5-496f-bc20-0ec93ab3c4be
X-WR-CALDESC:
X-WR-RELCALID:1be5523cb958b1535cfcc4c0b9bb72dd
X-WR-TIMEZONE:America/New_York
BEGIN:VTIMEZONE
TZID:America/New_York
BEGIN:STANDARD
TZNAME:EST
DTSTART:20201101T020000
TZOFFSETFROM:-0400
TZOFFSETTO:-0500
RDATE:20211107T020000
END:STANDARD
BEGIN:DAYLIGHT
TZNAME:EDT
DTSTART:20210314T020000
TZOFFSETFROM:-0500
TZOFFSETTO:-0400
RDATE:20220313T020000
END:DAYLIGHT
END:VTIMEZONE
BEGIN:VEVENT
UID:f98ca8b3-ea6c-4ff4-91ff-7a8f001f7249
DTSTAMP:20260426T012431Z
DESCRIPTION:
DTSTART;TZID=America/New_York:20210326T110000
DTEND;TZID=America/New_York:20210326T113000
LOCATION:
SUMMARY:Exercise with Friends
END:VEVENT
END:VCALENDAR
