BEGIN:VCALENDAR
VERSION:2.0
PRODID:-//www.thearcofsomerset.org//NONSGML kigkonsult.se iCalcreator 2.30.
 10//
CALSCALE:GREGORIAN
METHOD:PUBLISH
UID:0b9dd797-4399-483b-9268-76dcd701c96c
X-WR-CALDESC:
X-WR-RELCALID:293869828a50958264670f4d443f6385
X-WR-TIMEZONE:America/New_York
BEGIN:VTIMEZONE
TZID:America/New_York
BEGIN:STANDARD
TZNAME:EST
DTSTART:20201101T020000
TZOFFSETFROM:-0400
TZOFFSETTO:-0500
RDATE:20211107T020000
END:STANDARD
BEGIN:DAYLIGHT
TZNAME:EDT
DTSTART:20210314T020000
TZOFFSETFROM:-0500
TZOFFSETTO:-0400
RDATE:20220313T020000
END:DAYLIGHT
END:VTIMEZONE
BEGIN:VEVENT
UID:ac01f148-4e4d-4929-868a-38d700d1611b
DTSTAMP:20260426T013030Z
DESCRIPTION:
DTSTART;TZID=America/New_York:20210326T140000
DTEND;TZID=America/New_York:20210326T143000
LOCATION:
SUMMARY:Literacy class (Claremont) –  everyone welcome!
END:VEVENT
END:VCALENDAR
