BEGIN:VCALENDAR
VERSION:2.0
PRODID:-//www.thearcofsomerset.org//NONSGML kigkonsult.se iCalcreator 2.30.
 10//
CALSCALE:GREGORIAN
METHOD:PUBLISH
UID:64c9dd7c-21a5-4beb-b976-b004107ff018
X-WR-CALDESC:
X-WR-RELCALID:bb6478563cbee788dc0cc4ae407f352a
X-WR-TIMEZONE:America/New_York
BEGIN:VTIMEZONE
TZID:America/New_York
BEGIN:STANDARD
TZNAME:EST
DTSTART:20201101T020000
TZOFFSETFROM:-0400
TZOFFSETTO:-0500
RDATE:20211107T020000
END:STANDARD
BEGIN:DAYLIGHT
TZNAME:EDT
DTSTART:20210314T020000
TZOFFSETFROM:-0500
TZOFFSETTO:-0400
RDATE:20220313T020000
END:DAYLIGHT
END:VTIMEZONE
BEGIN:VEVENT
UID:8bbf7d74-9722-4570-b0c3-72054ef7bc25
DTSTAMP:20260426T012656Z
DESCRIPTION:
DTSTART;TZID=America/New_York:20210329T110000
DTEND;TZID=America/New_York:20210329T113000
LOCATION:
SUMMARY:30 Minute Mystery
END:VEVENT
END:VCALENDAR
