BEGIN:VCALENDAR
VERSION:2.0
PRODID:-//www.thearcofsomerset.org//NONSGML kigkonsult.se iCalcreator 2.30.
 10//
CALSCALE:GREGORIAN
METHOD:PUBLISH
UID:8ab051b4-5025-4219-b3a9-1459ed03ed8c
X-WR-CALDESC:
X-WR-RELCALID:54a0a2da8d28fdd3728c1729732e96ef
X-WR-TIMEZONE:America/New_York
BEGIN:VTIMEZONE
TZID:America/New_York
BEGIN:STANDARD
TZNAME:EST
DTSTART:20201101T020000
TZOFFSETFROM:-0400
TZOFFSETTO:-0500
RDATE:20211107T020000
END:STANDARD
BEGIN:DAYLIGHT
TZNAME:EDT
DTSTART:20210314T020000
TZOFFSETFROM:-0500
TZOFFSETTO:-0400
RDATE:20220313T020000
END:DAYLIGHT
END:VTIMEZONE
BEGIN:VEVENT
UID:2df4131b-bd51-40a0-8614-bed3f480b984
DTSTAMP:20260426T012821Z
DESCRIPTION:
DTSTART;TZID=America/New_York:20210329T140000
DTEND;TZID=America/New_York:20210329T143000
LOCATION:
SUMMARY:Art with Alec and Tonya
END:VEVENT
END:VCALENDAR
