BEGIN:VCALENDAR
VERSION:2.0
PRODID:-//www.thearcofsomerset.org//NONSGML kigkonsult.se iCalcreator 2.30.
 10//
CALSCALE:GREGORIAN
METHOD:PUBLISH
UID:d4067842-6998-42b3-9b7d-dfa08bb2bf0c
X-WR-CALDESC:
X-WR-RELCALID:766266c2ae4231234333a6a071e0eb84
X-WR-TIMEZONE:America/New_York
BEGIN:VTIMEZONE
TZID:America/New_York
BEGIN:STANDARD
TZNAME:EST
DTSTART:20201101T020000
TZOFFSETFROM:-0400
TZOFFSETTO:-0500
RDATE:20211107T020000
END:STANDARD
BEGIN:DAYLIGHT
TZNAME:EDT
DTSTART:20210314T020000
TZOFFSETFROM:-0500
TZOFFSETTO:-0400
RDATE:20220313T020000
END:DAYLIGHT
END:VTIMEZONE
BEGIN:VEVENT
UID:bb2b9629-0dc4-4904-960b-1fd1f761a9d4
DTSTAMP:20260426T013159Z
DESCRIPTION:
DTSTART;TZID=America/New_York:20210330T150000
DTEND;TZID=America/New_York:20210330T153000
LOCATION:
SUMMARY:“Hot TopiX” – Let’s Learn How to  Shampoo our hair with Elaine!
END:VEVENT
END:VCALENDAR
