BEGIN:VCALENDAR
VERSION:2.0
PRODID:-//www.thearcofsomerset.org//NONSGML kigkonsult.se iCalcreator 2.30.
 10//
CALSCALE:GREGORIAN
METHOD:PUBLISH
UID:c5dd144a-0cf8-47ae-b42f-22b942a07ebd
X-WR-CALDESC:
X-WR-RELCALID:3d03dd5ee0d09772ab8549e39803326e
X-WR-TIMEZONE:America/New_York
BEGIN:VTIMEZONE
TZID:America/New_York
BEGIN:STANDARD
TZNAME:EST
DTSTART:20201101T020000
TZOFFSETFROM:-0400
TZOFFSETTO:-0500
RDATE:20211107T020000
END:STANDARD
BEGIN:DAYLIGHT
TZNAME:EDT
DTSTART:20210314T020000
TZOFFSETFROM:-0500
TZOFFSETTO:-0400
RDATE:20220313T020000
END:DAYLIGHT
END:VTIMEZONE
BEGIN:VEVENT
UID:b18b7fc9-a06f-4155-9527-8b08edcbd19f
DTSTAMP:20260426T013211Z
DESCRIPTION:
DTSTART;TZID=America/New_York:20210330T130000
DTEND;TZID=America/New_York:20210330T133000
LOCATION:
SUMMARY:“Music for Hope and Inspiration”  Guest Musician: Vinnie and his ma
 ny musical instruments!
END:VEVENT
END:VCALENDAR
