BEGIN:VCALENDAR
VERSION:2.0
PRODID:-//www.thearcofsomerset.org//NONSGML kigkonsult.se iCalcreator 2.30.
 10//
CALSCALE:GREGORIAN
METHOD:PUBLISH
UID:37df0e51-b9a0-442c-b234-e57c88d0945e
X-WR-CALDESC:
X-WR-RELCALID:e362b9f4dce9023fcfffb26cdc24cf73
X-WR-TIMEZONE:America/New_York
BEGIN:VTIMEZONE
TZID:America/New_York
BEGIN:STANDARD
TZNAME:EST
DTSTART:20201101T020000
TZOFFSETFROM:-0400
TZOFFSETTO:-0500
RDATE:20211107T020000
END:STANDARD
BEGIN:DAYLIGHT
TZNAME:EDT
DTSTART:20210314T020000
TZOFFSETFROM:-0500
TZOFFSETTO:-0400
RDATE:20220313T020000
END:DAYLIGHT
END:VTIMEZONE
BEGIN:VEVENT
UID:8142c914-82f1-4477-a631-12da59477cf7
DTSTAMP:20260426T012959Z
DESCRIPTION:
DTSTART;TZID=America/New_York:20210330T130000
DTEND;TZID=America/New_York:20210330T133000
LOCATION:
SUMMARY:Literacy class (RHGH)  everyone welcome!
END:VEVENT
END:VCALENDAR
