BEGIN:VCALENDAR
VERSION:2.0
PRODID:-//www.thearcofsomerset.org//NONSGML kigkonsult.se iCalcreator 2.30.
 10//
CALSCALE:GREGORIAN
METHOD:PUBLISH
UID:9f511457-5a7b-4929-b6f5-ff45fd2a64a2
X-WR-CALDESC:
X-WR-RELCALID:1491994cd40c248bb4f557483b58d21d
X-WR-TIMEZONE:America/New_York
BEGIN:VTIMEZONE
TZID:America/New_York
BEGIN:STANDARD
TZNAME:EST
DTSTART:20201101T020000
TZOFFSETFROM:-0400
TZOFFSETTO:-0500
RDATE:20211107T020000
END:STANDARD
BEGIN:DAYLIGHT
TZNAME:EDT
DTSTART:20210314T020000
TZOFFSETFROM:-0500
TZOFFSETTO:-0400
RDATE:20220313T020000
END:DAYLIGHT
END:VTIMEZONE
BEGIN:VEVENT
UID:1e9c8399-925f-4e45-b496-50ecbd9205c6
DTSTAMP:20260426T012530Z
DESCRIPTION:
DTSTART;TZID=America/New_York:20210331T130000
DTEND;TZID=America/New_York:20210331T133000
LOCATION:
SUMMARY:30 Minute Mystery
END:VEVENT
END:VCALENDAR
