BEGIN:VCALENDAR
VERSION:2.0
PRODID:-//www.thearcofsomerset.org//NONSGML kigkonsult.se iCalcreator 2.30.
 10//
CALSCALE:GREGORIAN
METHOD:PUBLISH
UID:e8c02a52-38ad-4f02-96a6-98e6b02523e2
X-WR-CALDESC:
X-WR-RELCALID:4416a1f709cc444d968583c965249220
X-WR-TIMEZONE:America/New_York
BEGIN:VTIMEZONE
TZID:America/New_York
BEGIN:STANDARD
TZNAME:EST
DTSTART:20201101T020000
TZOFFSETFROM:-0400
TZOFFSETTO:-0500
RDATE:20211107T020000
END:STANDARD
BEGIN:DAYLIGHT
TZNAME:EDT
DTSTART:20210314T020000
TZOFFSETFROM:-0500
TZOFFSETTO:-0400
RDATE:20220313T020000
END:DAYLIGHT
END:VTIMEZONE
BEGIN:VEVENT
UID:ff2edd70-2c96-4a85-ba72-b5cbc4f4cbeb
DTSTAMP:20260426T012526Z
DESCRIPTION:
DTSTART;TZID=America/New_York:20210331T101500
DTEND;TZID=America/New_York:20210331T104500
LOCATION:
SUMMARY:Exercise with Friends
END:VEVENT
END:VCALENDAR
