BEGIN:VCALENDAR
VERSION:2.0
PRODID:-//www.thearcofsomerset.org//NONSGML kigkonsult.se iCalcreator 2.30.
 10//
CALSCALE:GREGORIAN
METHOD:PUBLISH
UID:674bb251-4c39-4155-9898-48f4c65b4b6a
X-WR-CALDESC:
X-WR-RELCALID:b317209e8e42174e148123114c93ff1b
X-WR-TIMEZONE:America/New_York
BEGIN:VTIMEZONE
TZID:America/New_York
BEGIN:STANDARD
TZNAME:EST
DTSTART:20201101T020000
TZOFFSETFROM:-0400
TZOFFSETTO:-0500
RDATE:20211107T020000
END:STANDARD
BEGIN:DAYLIGHT
TZNAME:EDT
DTSTART:20210314T020000
TZOFFSETFROM:-0500
TZOFFSETTO:-0400
RDATE:20220313T020000
END:DAYLIGHT
END:VTIMEZONE
BEGIN:VEVENT
UID:d61ca0d8-a28a-4171-9fed-76e611012645
DTSTAMP:20260426T000758Z
DESCRIPTION:
DTSTART;TZID=America/New_York:20210401T130000
DTEND;TZID=America/New_York:20210401T133000
LOCATION:
SUMMARY:“Music for Hope and Inspiration” – TBD
END:VEVENT
END:VCALENDAR
