BEGIN:VCALENDAR
VERSION:2.0
PRODID:-//www.thearcofsomerset.org//NONSGML kigkonsult.se iCalcreator 2.30.
 10//
CALSCALE:GREGORIAN
METHOD:PUBLISH
UID:d92ef318-3214-4c8a-b9ae-fd69ca3b9a64
X-WR-CALDESC:
X-WR-RELCALID:fbb433f4d8a30ed9f4b01d0aaaf93c2c
X-WR-TIMEZONE:America/New_York
BEGIN:VTIMEZONE
TZID:America/New_York
BEGIN:STANDARD
TZNAME:EST
DTSTART:20201101T020000
TZOFFSETFROM:-0400
TZOFFSETTO:-0500
RDATE:20211107T020000
END:STANDARD
BEGIN:DAYLIGHT
TZNAME:EDT
DTSTART:20210314T020000
TZOFFSETFROM:-0500
TZOFFSETTO:-0400
RDATE:20220313T020000
END:DAYLIGHT
END:VTIMEZONE
BEGIN:VEVENT
UID:42c85d61-769a-4e0f-b54a-7c72ad55f8a2
DTSTAMP:20260425T235754Z
DESCRIPTION:
DTSTART;TZID=America/New_York:20210401T100000
DTEND;TZID=America/New_York:20210401T103000
LOCATION:
SUMMARY:Literacy class (Ardsley) –everyone welcome!
END:VEVENT
END:VCALENDAR
