BEGIN:VCALENDAR
VERSION:2.0
PRODID:-//www.thearcofsomerset.org//NONSGML kigkonsult.se iCalcreator 2.30.
 10//
CALSCALE:GREGORIAN
METHOD:PUBLISH
UID:d87a0f64-26ff-47de-bba0-beb89e534916
X-WR-CALDESC:
X-WR-RELCALID:d21a2baf8fbcaa81da6b5eccb864b2e3
X-WR-TIMEZONE:America/New_York
BEGIN:VTIMEZONE
TZID:America/New_York
BEGIN:STANDARD
TZNAME:EST
DTSTART:20201101T020000
TZOFFSETFROM:-0400
TZOFFSETTO:-0500
RDATE:20211107T020000
END:STANDARD
BEGIN:DAYLIGHT
TZNAME:EDT
DTSTART:20210314T020000
TZOFFSETFROM:-0500
TZOFFSETTO:-0400
RDATE:20220313T020000
END:DAYLIGHT
END:VTIMEZONE
BEGIN:VEVENT
UID:e036dae7-68c7-4f85-8c43-74a8160492bc
DTSTAMP:20260425T235939Z
DESCRIPTION:
DTSTART;TZID=America/New_York:20210405T140000
DTEND;TZID=America/New_York:20210405T143000
LOCATION:
SUMMARY:Art with Alec and Tonya
END:VEVENT
END:VCALENDAR
