BEGIN:VCALENDAR
VERSION:2.0
PRODID:-//www.thearcofsomerset.org//NONSGML kigkonsult.se iCalcreator 2.30.
 10//
CALSCALE:GREGORIAN
METHOD:PUBLISH
UID:29b5066a-90dc-48e8-ac2f-4dd5d9ad5c5a
X-WR-CALDESC:
X-WR-RELCALID:9f4b89dfbbed6db9f6a7a5a2c157321a
X-WR-TIMEZONE:America/New_York
BEGIN:VTIMEZONE
TZID:America/New_York
BEGIN:STANDARD
TZNAME:EST
DTSTART:20201101T020000
TZOFFSETFROM:-0400
TZOFFSETTO:-0500
RDATE:20211107T020000
END:STANDARD
BEGIN:DAYLIGHT
TZNAME:EDT
DTSTART:20210314T020000
TZOFFSETFROM:-0500
TZOFFSETTO:-0400
RDATE:20220313T020000
END:DAYLIGHT
END:VTIMEZONE
BEGIN:VEVENT
UID:fe2417ab-88ec-4fd8-98de-b9b1b7dc0fdd
DTSTAMP:20260426T000901Z
DESCRIPTION:
DTSTART;TZID=America/New_York:20210405T130000
DTEND;TZID=America/New_York:20210405T133000
LOCATION:
SUMMARY:Royal School of Yoga
END:VEVENT
END:VCALENDAR
